BEGIN:VCALENDAR
VERSION:2.0
PRODID:-//Lake Champlain Chamber - ECPv6.15.18//NONSGML v1.0//EN
CALSCALE:GREGORIAN
METHOD:PUBLISH
X-ORIGINAL-URL:https://lccvermont.org
X-WR-CALDESC:Events for Lake Champlain Chamber
REFRESH-INTERVAL;VALUE=DURATION:PT1H
X-Robots-Tag:noindex
X-PUBLISHED-TTL:PT1H
BEGIN:VTIMEZONE
TZID:America/New_York
BEGIN:DAYLIGHT
TZOFFSETFROM:-0500
TZOFFSETTO:-0400
TZNAME:EDT
DTSTART:20180311T070000
END:DAYLIGHT
BEGIN:STANDARD
TZOFFSETFROM:-0400
TZOFFSETTO:-0500
TZNAME:EST
DTSTART:20181104T060000
END:STANDARD
BEGIN:DAYLIGHT
TZOFFSETFROM:-0500
TZOFFSETTO:-0400
TZNAME:EDT
DTSTART:20190310T070000
END:DAYLIGHT
BEGIN:STANDARD
TZOFFSETFROM:-0400
TZOFFSETTO:-0500
TZNAME:EST
DTSTART:20191103T060000
END:STANDARD
BEGIN:DAYLIGHT
TZOFFSETFROM:-0500
TZOFFSETTO:-0400
TZNAME:EDT
DTSTART:20200308T070000
END:DAYLIGHT
BEGIN:STANDARD
TZOFFSETFROM:-0400
TZOFFSETTO:-0500
TZNAME:EST
DTSTART:20201101T060000
END:STANDARD
BEGIN:DAYLIGHT
TZOFFSETFROM:-0500
TZOFFSETTO:-0400
TZNAME:EDT
DTSTART:20210314T070000
END:DAYLIGHT
BEGIN:STANDARD
TZOFFSETFROM:-0400
TZOFFSETTO:-0500
TZNAME:EST
DTSTART:20211107T060000
END:STANDARD
BEGIN:DAYLIGHT
TZOFFSETFROM:-0500
TZOFFSETTO:-0400
TZNAME:EDT
DTSTART:20220313T070000
END:DAYLIGHT
BEGIN:STANDARD
TZOFFSETFROM:-0400
TZOFFSETTO:-0500
TZNAME:EST
DTSTART:20221106T060000
END:STANDARD
BEGIN:DAYLIGHT
TZOFFSETFROM:-0500
TZOFFSETTO:-0400
TZNAME:EDT
DTSTART:20230312T070000
END:DAYLIGHT
BEGIN:STANDARD
TZOFFSETFROM:-0400
TZOFFSETTO:-0500
TZNAME:EST
DTSTART:20231105T060000
END:STANDARD
BEGIN:DAYLIGHT
TZOFFSETFROM:-0500
TZOFFSETTO:-0400
TZNAME:EDT
DTSTART:20240310T070000
END:DAYLIGHT
BEGIN:STANDARD
TZOFFSETFROM:-0400
TZOFFSETTO:-0500
TZNAME:EST
DTSTART:20241103T060000
END:STANDARD
BEGIN:DAYLIGHT
TZOFFSETFROM:-0500
TZOFFSETTO:-0400
TZNAME:EDT
DTSTART:20250309T070000
END:DAYLIGHT
BEGIN:STANDARD
TZOFFSETFROM:-0400
TZOFFSETTO:-0500
TZNAME:EST
DTSTART:20251102T060000
END:STANDARD
BEGIN:DAYLIGHT
TZOFFSETFROM:-0500
TZOFFSETTO:-0400
TZNAME:EDT
DTSTART:20260308T070000
END:DAYLIGHT
BEGIN:STANDARD
TZOFFSETFROM:-0400
TZOFFSETTO:-0500
TZNAME:EST
DTSTART:20261101T060000
END:STANDARD
END:VTIMEZONE
BEGIN:VEVENT
DTSTART;TZID=America/New_York:20250322T130000
DTEND;TZID=America/New_York:20250322T150000
DTSTAMP:20260421T052315
CREATED:20250311T140259Z
LAST-MODIFIED:20250311T215800Z
UID:10005115-1742648400-1742655600@lccvermont.org
SUMMARY:Meyers Cup powered by LaunchVT
DESCRIPTION:Vermont’s entrepreneurial spirit is about to ignite! \nLaunchVT\, the state’s flagship startup accelerator\, is thrilled to partner with the University of Vermont to bring you the Meyers Cup powered by LaunchVT — the nation’s largest undergraduate business pitch competition. Witness the future of innovation as UVM’s brightest student entrepreneurs\, armed with our proven\, SBA award-winning curriculum\, pitch their ideas for a chance to win over $200\,000 in cash and in-kind services. \nJoin us at the Silver Maple Pavilion Alumni House on Saturday\, March 22 as these rising stars demonstrate the boundless potential of Vermont’s young entrepreneurs.
URL:https://lccvermont.org/event/meyers-cup-launchvt/
LOCATION:UVM Alumni House\, 61 Summit Street\, Burlington\, VT\, 05401\, United States
ATTACH;FMTTYPE=image/png:https://lccvermont.org/wp-content/uploads/2024/04/LCC_Icon_Full-Color_RGB-profile-picture-size.png
END:VEVENT
BEGIN:VEVENT
DTSTART;TZID=America/New_York:20190509T173000
DTEND;TZID=America/New_York:20190509T193000
DTSTAMP:20260421T052315
CREATED:20190415T170328Z
LAST-MODIFIED:20190429T151552Z
UID:10002275-1557423000-1557430200@lccvermont.org
SUMMARY:LCRCC Event: BAH at UVM Alumni House
DESCRIPTION:  \n \nSummer are you there? Join us as we toast to the impending warm weather in the stunning UVM Alumni House onÂ Thursday\, May 9 from 5:30pm-7:30pm. \nThe UVM Alumni House stands an enduring testament to the rich history of the University of Vermont and the Burlington community; network on its historic grounds while indulging in mouth-watering appetizers byÂ Catering by DaleÂ and a cold beverage courtesy ofÂ Farrell Distributing. This free member event is not only a phenomenal networking opportunity but your entry includes appetizers and one drink ticket. \nBring your business card for your chance to win the Executive Business Retreat Give-a-Way \nGet away from the office with your top decision makers for a one of a kind retreat at theÂ UVM Alumni HouseÂ that is sure to make a difference for your business. Enjoy all the amenities that the Alumni House has to offerÂ andÂ a delicious lunch provided byÂ Catering by Dale. \nTake in the lake views from the second floor porch of the main house while you spread out in two adjoining rooms. With every event we provide tables\, chairs\, Wi-Fi\, use of a 55 inch screen on a moveable carts for presentations\, conference phones\, daytime parking for 15 and helpful\, friendly staff. \n\nÂ Limited to 15 people\nGood through December 1\, 2019\nFor second floor of main house only\nAdditional food and beverage can be arranged\n\nWorried about parking and want to plan ahead? Check out the UVM Alumni House parking map \n  \nThank you to our sponsors: \n \n \n \n 
URL:https://lccvermont.org/event/bah-uvm/
LOCATION:UVM Alumni House\, 61 Summit Street\, Burlington\, VT\, 05401\, United States
CATEGORIES:Chamber Event
ATTACH;FMTTYPE=image/jpeg:https://lccvermont.org/wp-content/uploads/2019/04/uvm_alumni_house_2017_exteriors_019.jpg
ORGANIZER;CN="Lake Champlain Chamber":MAILTO:vermont@vermont.org
END:VEVENT
END:VCALENDAR