BEGIN:VCALENDAR
VERSION:2.0
PRODID:-//Lake Champlain Chamber - ECPv6.15.18//NONSGML v1.0//EN
CALSCALE:GREGORIAN
METHOD:PUBLISH
X-WR-CALNAME:Lake Champlain Chamber
X-ORIGINAL-URL:https://lccvermont.org
X-WR-CALDESC:Events for Lake Champlain Chamber
REFRESH-INTERVAL;VALUE=DURATION:PT1H
X-Robots-Tag:noindex
X-PUBLISHED-TTL:PT1H
BEGIN:VTIMEZONE
TZID:America/New_York
BEGIN:DAYLIGHT
TZOFFSETFROM:-0500
TZOFFSETTO:-0400
TZNAME:EDT
DTSTART:20230312T070000
END:DAYLIGHT
BEGIN:STANDARD
TZOFFSETFROM:-0400
TZOFFSETTO:-0500
TZNAME:EST
DTSTART:20231105T060000
END:STANDARD
BEGIN:DAYLIGHT
TZOFFSETFROM:-0500
TZOFFSETTO:-0400
TZNAME:EDT
DTSTART:20240310T070000
END:DAYLIGHT
BEGIN:STANDARD
TZOFFSETFROM:-0400
TZOFFSETTO:-0500
TZNAME:EST
DTSTART:20241103T060000
END:STANDARD
BEGIN:DAYLIGHT
TZOFFSETFROM:-0500
TZOFFSETTO:-0400
TZNAME:EDT
DTSTART:20250309T070000
END:DAYLIGHT
BEGIN:STANDARD
TZOFFSETFROM:-0400
TZOFFSETTO:-0500
TZNAME:EST
DTSTART:20251102T060000
END:STANDARD
END:VTIMEZONE
BEGIN:VEVENT
DTSTART;TZID=America/New_York:20240911T083000
DTEND;TZID=America/New_York:20240912T123000
DTSTAMP:20260421T130400
CREATED:20240802T170652Z
LAST-MODIFIED:20240802T170652Z
UID:10004514-1726043400-1726144200@lccvermont.org
SUMMARY:Health Benefits Laws Compliance Assistance Seminar
DESCRIPTION:Hello Lake Champlain Chamber of Commerce! \n\nLater this summer\, the U.S. Department of Labor (USDOL) is hosting a free educational seminar in Burlington VT on health plan laws compliance for employer-provided plans. This two-day\, in-person seminar is targeted at small-business owners and plan administrators\, and features speakers from federal and state regulators. We hold these seminars throughout the year and throughout the country\, and the upcoming seminar in Burlington will be on September 11 & 12\, 2024. \nHealth Benefits Laws Compliance Assistance Seminar – Burlington\, VT \nWednesday\, September 11 and Thursday\, September 12 \nINFORMATION & AGENDA | REGISTRATION | MORE FROM EBSA \nWith speakers from: \n\nUSDOL Employee Benefits Security Administration (EBSA)\nUSDOL Wage & Hour Division\nSalem Department of Consumer and Business Services\n\nDiscussing laws including: \n\nERISA\nAffordable Care Act\nCOBRA\nMental Health Parity and Addiction Equity Act (MHPAEA)\nNo Surprises Act\nFamily and Medical Leave Act (FMLA)\n\n 
URL:https://lccvermont.org/event/health-benefits-laws-compliance-assistance-seminar/
LOCATION:Hampton Inn Burlington-Colchester\, 42 Lower Mountain Dr\, Colchester\, VT\, 05446\, United States
ATTACH;FMTTYPE=image/png:https://lccvermont.org/wp-content/uploads/2024/04/LCC_Icon_Full-Color_RGB-profile-picture-size.png
END:VEVENT
END:VCALENDAR