BEGIN:VCALENDAR
VERSION:2.0
PRODID:-//Lake Champlain Chamber - ECPv6.15.18//NONSGML v1.0//EN
CALSCALE:GREGORIAN
METHOD:PUBLISH
X-ORIGINAL-URL:https://lccvermont.org
X-WR-CALDESC:Events for Lake Champlain Chamber
REFRESH-INTERVAL;VALUE=DURATION:PT1H
X-Robots-Tag:noindex
X-PUBLISHED-TTL:PT1H
BEGIN:VTIMEZONE
TZID:America/New_York
BEGIN:DAYLIGHT
TZOFFSETFROM:-0500
TZOFFSETTO:-0400
TZNAME:EDT
DTSTART:20250309T070000
END:DAYLIGHT
BEGIN:STANDARD
TZOFFSETFROM:-0400
TZOFFSETTO:-0500
TZNAME:EST
DTSTART:20251102T060000
END:STANDARD
BEGIN:DAYLIGHT
TZOFFSETFROM:-0500
TZOFFSETTO:-0400
TZNAME:EDT
DTSTART:20260308T070000
END:DAYLIGHT
BEGIN:STANDARD
TZOFFSETFROM:-0400
TZOFFSETTO:-0500
TZNAME:EST
DTSTART:20261101T060000
END:STANDARD
BEGIN:DAYLIGHT
TZOFFSETFROM:-0500
TZOFFSETTO:-0400
TZNAME:EDT
DTSTART:20270314T070000
END:DAYLIGHT
BEGIN:STANDARD
TZOFFSETFROM:-0400
TZOFFSETTO:-0500
TZNAME:EST
DTSTART:20271107T060000
END:STANDARD
END:VTIMEZONE
BEGIN:VEVENT
DTSTART;TZID=America/New_York:20260420T083000
DTEND;TZID=America/New_York:20260420T100000
DTSTAMP:20260419T222657
CREATED:20251211T175544Z
LAST-MODIFIED:20260325T170017Z
UID:10005779-1776673800-1776679200@lccvermont.org
SUMMARY:LCC Legislative Breakfast Series 2026
DESCRIPTION:Every year we bring legislators\, policymakers\, and LCC members together to celebrate business ownership and entrepreneurship and advocate for economic opportunity for our region. Sponsored by EastRise Credit Union\, our Legislative Breakfasts are opportunities to connect with legislators and those in higher office. \nJanuary Legislative Breakfast – RESCHEDULED TO MONDAY\, APRIL 20\nWhen: Monday\, April 20 | 8:30am \nWhere: The Nine | 1205 Airport Parkway\, South Burlington \n\nPast Event: \nMarch Legislative Breakfast\nWhen: Monday\, March 16 | 8:30am \nWhere: Dealer.com | 1 Howard Street\, Burlington \nFor full event details and to register\, please click here.
URL:https://lccvermont.org/event/lcc-legislative-breakfast-series-2026/
LOCATION:The Nine\, 1205 Airport Pkwy\, South Burlington\, VT\, 05403\, United States
CATEGORIES:Chamber Event
ATTACH;FMTTYPE=image/png:https://lccvermont.org/wp-content/uploads/2024/04/LCC_Icon_Full-Color_RGB-profile-picture-size.png
ORGANIZER;CN="Lake Champlain Chamber":MAILTO:vermont@vermont.org
END:VEVENT
BEGIN:VEVENT
DTSTART;TZID=America/New_York:20260520T170000
DTEND;TZID=America/New_York:20260520T190000
DTSTAMP:20260419T222657
CREATED:20260313T144506Z
LAST-MODIFIED:20260313T144526Z
UID:10006262-1779296400-1779303600@lccvermont.org
SUMMARY:Business After Hours: The DoubleTree
DESCRIPTION:Join us for a special edition of Business After Hours as we celebrate the grand opening of the newly reimagined DoubleTree by Hilton Hotel Burlington! Come for the networking and stay for the hospitality. \nAttendees will enjoy optional tours of the brand new and updated guest rooms and modern event spaces\, sample some of the DoubleTree’s premier culinary offerings\, and connect with members of our region’s business community. \nWhether you’re scouting a location for your next holiday party\, social gathering\, or company meeting\, or simply want to catch up with friends and colleagues\, this is the place to be. \nOur nonprofit partner for this event is Vermont Parks Forever (VPF)\, the only non-profit foundation for Vermont’s 55 state parks. Founded in 2013\, VPF focuses on nature education\, access to parks\, and equity in the outdoors. \nREGISTER.
URL:https://lccvermont.org/event/business-after-hours-the-doubletree/
LOCATION:DoubleTree by Hilton Hotel Burlington\, 870 Williston Rd\, South Burlington\, 05403\, United States
CATEGORIES:Chamber Event
ATTACH;FMTTYPE=image/png:https://lccvermont.org/wp-content/uploads/2024/04/LCC_Icon_Full-Color_RGB-profile-picture-size.png
ORGANIZER;CN="Lake Champlain Chamber":MAILTO:vermont@vermont.org
END:VEVENT
END:VCALENDAR