BEGIN:VCALENDAR
VERSION:2.0
PRODID:-//Lake Champlain Chamber - ECPv6.15.18//NONSGML v1.0//EN
CALSCALE:GREGORIAN
METHOD:PUBLISH
X-ORIGINAL-URL:https://lccvermont.org
X-WR-CALDESC:Events for Lake Champlain Chamber
REFRESH-INTERVAL;VALUE=DURATION:PT1H
X-Robots-Tag:noindex
X-PUBLISHED-TTL:PT1H
BEGIN:VTIMEZONE
TZID:America/New_York
BEGIN:DAYLIGHT
TZOFFSETFROM:-0500
TZOFFSETTO:-0400
TZNAME:EDT
DTSTART:20230312T070000
END:DAYLIGHT
BEGIN:STANDARD
TZOFFSETFROM:-0400
TZOFFSETTO:-0500
TZNAME:EST
DTSTART:20231105T060000
END:STANDARD
BEGIN:DAYLIGHT
TZOFFSETFROM:-0500
TZOFFSETTO:-0400
TZNAME:EDT
DTSTART:20240310T070000
END:DAYLIGHT
BEGIN:STANDARD
TZOFFSETFROM:-0400
TZOFFSETTO:-0500
TZNAME:EST
DTSTART:20241103T060000
END:STANDARD
BEGIN:DAYLIGHT
TZOFFSETFROM:-0500
TZOFFSETTO:-0400
TZNAME:EDT
DTSTART:20250309T070000
END:DAYLIGHT
BEGIN:STANDARD
TZOFFSETFROM:-0400
TZOFFSETTO:-0500
TZNAME:EST
DTSTART:20251102T060000
END:STANDARD
BEGIN:DAYLIGHT
TZOFFSETFROM:-0500
TZOFFSETTO:-0400
TZNAME:EDT
DTSTART:20260308T070000
END:DAYLIGHT
BEGIN:STANDARD
TZOFFSETFROM:-0400
TZOFFSETTO:-0500
TZNAME:EST
DTSTART:20261101T060000
END:STANDARD
END:VTIMEZONE
BEGIN:VEVENT
DTSTART;TZID=America/New_York:20251206T120000
DTEND;TZID=America/New_York:20251206T160000
DTSTAMP:20260421T112533
CREATED:20251113T150139Z
LAST-MODIFIED:20251113T150139Z
UID:10005391-1765022400-1765036800@lccvermont.org
SUMMARY:Generator Holiday Maker Market
DESCRIPTION:Happy Holidays! \n‘Tis the giving season! Come spread a little holiday cheer by supporting local makers and artists at the 2025 Holiday Maker Market Mixer! \nFrom handcrafted jewelry & unique wearables\, to artistic prints & outdoor goods… there’s bound to be something for everyone on your holiday shopping list at this Local Maker-Focused Holiday Market hosted by Generator. \nWe will have free coffee\, cider\, and hot chocolate. And Zero Gravity will be around slinging some holiday spirits and keeping things cheerful! \nThis fun and friendly holiday market is totally FREE and open to the whole family. So grab those lists\, tell a friend\, and come enjoy some holiday festivities together with us.
URL:https://lccvermont.org/event/generator-holiday-maker-market/
LOCATION:Generator Makerspace\, 40 Sears Ln\, Burlington\, 05401
CATEGORIES:Chamber Member Event,Community Event
ATTACH;FMTTYPE=image/jpeg:https://lccvermont.org/wp-content/uploads/2025/11/holidayMarket-04650.jpg
ORGANIZER;CN="Generator Makerspace":MAILTO:communications@generatorvt.com
END:VEVENT
BEGIN:VEVENT
DTSTART;TZID=America/New_York:20250408T060000
DTEND;TZID=America/New_York:20250408T200000
DTSTAMP:20260421T112533
CREATED:20250403T135933Z
LAST-MODIFIED:20250403T135933Z
UID:10005139-1744092000-1744142400@lccvermont.org
SUMMARY:Reckless Ideas: Through The Clouds With Beth White!
DESCRIPTION:Visit Generator on Tuesday\, April 8th to hear the story behind Habitat For Aviation as told by its founder Beth White! \nWe will hear about Beth’s remarkable journey into aviation\, sparked by the daring thought: “If Beryl Markham could fly solo across the Atlantic in the 1930s\, why can’t I?” We will hear how earning her pilot’s license\, meeting an unexpected 80-year old airplane mechanic\, and surviving breast cancer led to a renewed life purpose: Fostering the next generation of aviators\, builders\, and innovators by providing hands-on opportunities in aviation. \nHabitat for Aviation is an apprenticeship program at Franklin County State Airport that offers youth and adults the opportunity to learn and work alongside industry professionals in aviation. Their Women Build Planes program is an all-female\, intergenerational team working together to build a Rans S-21 airplane! Beth will be joined by some of her fabulous Women Build Planes team members—the Modern Rosies.\nThis Reckless Idea will leave folks feeling inspired and ready to take-off and chase your own bold initiatives!\nYou don’t want to miss this! \nWhat: Reckless Ideas Speaker Series\nWhen: Tuesday\, April 8th from 6-8pm\nWho: Beth White & Habitat For Aviation\nCost: Totally FREE! \nRSVP Today >> www.generatorvt.com/reckless-ideas
URL:https://lccvermont.org/event/reckless-ideas-through-the-clouds-with-beth-white/
LOCATION:Generator Makerspace\, 40 Sears Ln\, Burlington\, 05401
CATEGORIES:Community Event
ATTACH;FMTTYPE=image/png:https://lccvermont.org/wp-content/uploads/2025/04/25reck_habitatForAviation_4x5_promo_sml.png
ORGANIZER;CN="Generator Makerspace":MAILTO:communications@generatorvt.com
END:VEVENT
BEGIN:VEVENT
DTSTART;TZID=America/New_York:20240405T180000
DTEND;TZID=America/New_York:20240405T210000
DTSTAMP:20260421T112533
CREATED:20240424T154330Z
LAST-MODIFIED:20240424T154330Z
UID:10004469-1712340000-1712350800@lccvermont.org
SUMMARY:Reckless Ideas
DESCRIPTION:Join us at Generator\, Burlington’s Makerspace\, on Friday\, April 5th for an evening of conversation about art and its ability to unite people through the pursuit of joy and beauty! \nWe’ll learn about\, and get a tour of\, “Fluffy”\, a 36\,000 pound mobile masterpiece that lights up and breathes fire! \nParticipants will also get to meet\, and experience the work of\, Juli Badics and Jackie Bishop\, two of Generator’s Artists-In-Residence. \nThis event is free and open to the public\, but space is limited. \nPlease RSVP to reserve a seat at www.generatorvt.com/reckless-ideas
URL:https://lccvermont.org/event/reckless-ideas/
LOCATION:Generator Makerspace\, 40 Sears Ln\, Burlington\, 05401
CATEGORIES:Burlington Young Professional Event,Community Event
ATTACH;FMTTYPE=image/png:https://lccvermont.org/wp-content/uploads/2024/02/24reck_Fluffy_promos-4x5-1.png
ORGANIZER;CN="Generator Makerspace":MAILTO:communications@generatorvt.com
END:VEVENT
END:VCALENDAR