BEGIN:VCALENDAR
VERSION:2.0
PRODID:-//Lake Champlain Chamber - ECPv6.15.20//NONSGML v1.0//EN
CALSCALE:GREGORIAN
METHOD:PUBLISH
X-ORIGINAL-URL:https://lccvermont.org
X-WR-CALDESC:Events for Lake Champlain Chamber
REFRESH-INTERVAL;VALUE=DURATION:PT1H
X-Robots-Tag:noindex
X-PUBLISHED-TTL:PT1H
BEGIN:VTIMEZONE
TZID:America/New_York
BEGIN:DAYLIGHT
TZOFFSETFROM:-0500
TZOFFSETTO:-0400
TZNAME:EDT
DTSTART:20250309T070000
END:DAYLIGHT
BEGIN:STANDARD
TZOFFSETFROM:-0400
TZOFFSETTO:-0500
TZNAME:EST
DTSTART:20251102T060000
END:STANDARD
BEGIN:DAYLIGHT
TZOFFSETFROM:-0500
TZOFFSETTO:-0400
TZNAME:EDT
DTSTART:20260308T070000
END:DAYLIGHT
BEGIN:STANDARD
TZOFFSETFROM:-0400
TZOFFSETTO:-0500
TZNAME:EST
DTSTART:20261101T060000
END:STANDARD
BEGIN:DAYLIGHT
TZOFFSETFROM:-0500
TZOFFSETTO:-0400
TZNAME:EDT
DTSTART:20270314T070000
END:DAYLIGHT
BEGIN:STANDARD
TZOFFSETFROM:-0400
TZOFFSETTO:-0500
TZNAME:EST
DTSTART:20271107T060000
END:STANDARD
END:VTIMEZONE
BEGIN:VEVENT
DTSTART;TZID=America/New_York:20260516T100000
DTEND;TZID=America/New_York:20260516T150000
DTSTAMP:20260423T180038
CREATED:20260413T185856Z
LAST-MODIFIED:20260413T185856Z
UID:10006282-1778925600-1778943600@lccvermont.org
SUMMARY:NAMIWalks Vermont 2026
DESCRIPTION:Join us for an exciting day featuring a live band\, two food trucks\, a silent auction\, and a resource buffet with over 40 vendors. \nThis year\, the Walk will be held at a new\, larger location: Centennial Field in Burlington\, home of the Lake Monsters! \nMark your calendars now! While this is our largest fundraising event\, donating or raising money for NAMI Vermont is an invitation\, not a requirement to participate! All that we ask is that everyone attending must register. \nRSVP today and invite your friends\, neighbors\, coworkers\, school teams\, faith community\, and family members to join you! Enjoy a stigma-free\, safe space where you can be yourself and connect with others who understand the challenges and opportunities that come with mental health conditions. Remember\, we all have mental health! \nVisit namiwalks.org/vermont to create your own team\, join an existing one\, or make a donation. \nQuestions? Contact our Events Coordinator at events@namivt.org.
URL:https://lccvermont.org/event/namiwalks-vermont-2026/
LOCATION:Centennial Field\, 287 Colchester Avenue\, Burlington\, 05401
CATEGORIES:Community Event
ATTACH;FMTTYPE=image/png:https://lccvermont.org/wp-content/uploads/2026/04/NAMIWalks-VT-2026.png
ORGANIZER;CN="NAMI Vermont":MAILTO:info@namivt.org
END:VEVENT
END:VCALENDAR