BEGIN:VCALENDAR
VERSION:2.0
PRODID:-//Lake Champlain Chamber - ECPv6.15.20//NONSGML v1.0//EN
CALSCALE:GREGORIAN
METHOD:PUBLISH
X-ORIGINAL-URL:https://lccvermont.org
X-WR-CALDESC:Events for Lake Champlain Chamber
REFRESH-INTERVAL;VALUE=DURATION:PT1H
X-Robots-Tag:noindex
X-PUBLISHED-TTL:PT1H
BEGIN:VTIMEZONE
TZID:America/New_York
BEGIN:DAYLIGHT
TZOFFSETFROM:-0500
TZOFFSETTO:-0400
TZNAME:EDT
DTSTART:20250309T070000
END:DAYLIGHT
BEGIN:STANDARD
TZOFFSETFROM:-0400
TZOFFSETTO:-0500
TZNAME:EST
DTSTART:20251102T060000
END:STANDARD
BEGIN:DAYLIGHT
TZOFFSETFROM:-0500
TZOFFSETTO:-0400
TZNAME:EDT
DTSTART:20260308T070000
END:DAYLIGHT
BEGIN:STANDARD
TZOFFSETFROM:-0400
TZOFFSETTO:-0500
TZNAME:EST
DTSTART:20261101T060000
END:STANDARD
BEGIN:DAYLIGHT
TZOFFSETFROM:-0500
TZOFFSETTO:-0400
TZNAME:EDT
DTSTART:20270314T070000
END:DAYLIGHT
BEGIN:STANDARD
TZOFFSETFROM:-0400
TZOFFSETTO:-0500
TZNAME:EST
DTSTART:20271107T060000
END:STANDARD
END:VTIMEZONE
BEGIN:VEVENT
DTSTART;TZID=America/New_York:20260507T170000
DTEND;TZID=America/New_York:20260507T190000
DTSTAMP:20260425T233322
CREATED:20260422T172034Z
LAST-MODIFIED:20260422T172843Z
UID:10006292-1778173200-1778180400@lccvermont.org
SUMMARY:BYP Meet Up: 210 College
DESCRIPTION:Join BYP and Lake Point Property Management at 210 College Street for our May Meet Up! We’re shaking things up with networking bingo (with prizes!)\, plus $10 pours from Wilder Wines and complimentary snacks. Don’t miss out! \nWhether you’re new to town\, looking to grow your network\, or just want to socialize in a relaxed atmosphere\, this event is for you. \nFor the full details + to register\, click here.
URL:https://lccvermont.org/event/byp-meet-up-210-college-street/
LOCATION:210 College Street
CATEGORIES:Burlington Young Professional Event,Chamber Event
ATTACH;FMTTYPE=image/png:https://lccvermont.org/wp-content/uploads/2024/12/BYP-Logo.png
ORGANIZER;CN="Burlington Young Professionals":MAILTO:byp@vermont.org
END:VEVENT
END:VCALENDAR